BEGIN:VCALENDAR
VERSION:2.0
PRODID:-//Forum des Marais atlantiques - ECPv5.3.1.1//NONSGML v1.0//EN
CALSCALE:GREGORIAN
METHOD:PUBLISH
X-WR-CALNAME:Forum des Marais atlantiques
X-ORIGINAL-URL:https://forum-zones-humides.org
X-WR-CALDESC:évènements pour Forum des Marais atlantiques
BEGIN:VTIMEZONE
TZID:Europe/Paris
BEGIN:DAYLIGHT
TZOFFSETFROM:+0100
TZOFFSETTO:+0200
TZNAME:CEST
DTSTART:20240331T010000
END:DAYLIGHT
BEGIN:STANDARD
TZOFFSETFROM:+0200
TZOFFSETTO:+0100
TZNAME:CET
DTSTART:20241027T010000
END:STANDARD
END:VTIMEZONE
BEGIN:VEVENT
DTSTART;VALUE=DATE:20241029
DTEND;VALUE=DATE:20241030
DTSTAMP:20260420T123528
CREATED:20240806T124831Z
LAST-MODIFIED:20240806T125049Z
UID:7080-1730160000-1730246399@forum-zones-humides.org
SUMMARY:Journée d'échanges sur la thématique des Espèces Exotiques Envahissantes.
DESCRIPTION:Le Cerema Hauts-de-France vous invite à une journée d’échanges sur la thématique des Espèces Exotiques Envahissantes (EEE) le 29 octobre 2024 à Lille. Cette session abordera l’actualité des cadres réglementaires existants au niveau national et régional\, ainsi que les outils disponibles pour les autorités et les gestionnaires des Hauts-de-France afin de faire face aux nouveaux enjeux liés aux EEE dans les milieux urbains et semi-urbains. \nProgramme et inscription à venir. \nCerema \n 
URL:https://forum-zones-humides.org/evenement/journee-dechanges-sur-la-thematique-des-especes-exotiques-envahissantes/
CATEGORIES:Agenda de nos partenaires
ATTACH;FMTTYPE=image/jpeg:https://forum-zones-humides.org/wp-content/uploads/2024/08/cerema.jpg
END:VEVENT
BEGIN:VEVENT
DTSTART;VALUE=DATE:20241114
DTEND;VALUE=DATE:20241115
DTSTAMP:20260420T123528
CREATED:20241021T144529Z
LAST-MODIFIED:20241021T144733Z
UID:7365-1731542400-1731628799@forum-zones-humides.org
SUMMARY:Journée régionale annuelle Espèces exotiques envahissantes (EEE).
DESCRIPTION:La journée annuelle Espèces exotiques envahissantes (EEE) approche à grand pas ! Elle se déroulera le 14 novembre 2024 dans les locaux du CEREMA à Lille (44t rue Jean Bart\, 59000 Lille). Cette année la thématique sera tournée vers l’organisation et la mobilisation du réseau d’acteurs en région\, agissant sur les EEE : qui intervient\, sur quelles espèces\, dans la limite de quel territoire\, avec quels moyens\, selon quelle approche (gestion\, prévention\, formation…) ?? \nLe matin sera consacré aux actualités nationales\, régionales et à un retour d’expérience. L’après-midi sera animée par différents ateliers afin de mieux caractériser notre réseau régional EEE : états des lieux de ce qui est fait en région et par territoire\, quels sont les besoins et attentes vis-à-vis des EEE et un dernier atelier favorisera les réflexions sur la mise en place de référents EEE et la définition de leur rôle. \nInscription et programme
URL:https://forum-zones-humides.org/evenement/journee-regionale-annuelle-especes-exotiques-envahissantes-eee/
ATTACH;FMTTYPE=image/jpeg:https://forum-zones-humides.org/wp-content/uploads/2023/05/conservatoire-haut-de-france.jpg
END:VEVENT
BEGIN:VEVENT
DTSTART;VALUE=DATE:20241121
DTEND;VALUE=DATE:20241122
DTSTAMP:20260420T123528
CREATED:20240909T140551Z
LAST-MODIFIED:20241031T081347Z
UID:7187-1732147200-1732233599@forum-zones-humides.org
SUMMARY:Rencontres Chercheurs / Gestionnaires 2024 : "Vers une synergie chercheurs-gestionnaires pour les suivis long-terme sur les zones humides et cours d'eau".
DESCRIPTION:La Fédération des Conservatoires d’espaces naturels et la Zone Atelier Loire – CNRS organisent cette nouvelle Rencontre Chercheurs/Gestionnaires le 21 novembre 2024 au sein de l’INSA CVL à Blois (41). \nAlternant retours d’expériences\, ateliers\, et temps d’échanges\, cette journée permettra d’échanger sur les suivis long-terme et les protocoles mis en place par les chercheurs et les gestionnaires sur le bassin de la Loire\, ainsi que sur leurs potentielles mutualisations. \nL’évènement\, gratuit\, s’adresse à tous les gestionnaires d’espaces naturels (Conservatoires d’espaces naturels\, Parcs\, Réserves\, DDT\, DREAL\, syndicats de rivières\, etc.) et chercheurs intéressés par la coopération et la coconstruction de projets de recherche/gestion\, prioritairement sur le bassin de la Loire (mais possibilité d’accueillir des personnes hors bassin\, dans la limite des places disponibles). \n✅Les inscriptions sont ouvertes jusqu’au 10 novembre : accédez au formulaire d’inscription.\n📜Consultez le programme prévisionnel.\n💻Pour plus d’informations : consultez la page dédiée à l’évènement\, sur le Centre de Ressources Loire nature. \n  \n 
URL:https://forum-zones-humides.org/evenement/rencontres-chercheurs-gestionnaires-du-bassin-de-la-loire-2024/
CATEGORIES:Agenda de nos partenaires
ATTACH;FMTTYPE=image/jpeg:https://forum-zones-humides.org/wp-content/uploads/2022/11/Logo_CEN_la_federation_cmjn_bordure_blanche.jpg
END:VEVENT
BEGIN:VEVENT
DTSTART;VALUE=DATE:20241126
DTEND;VALUE=DATE:20241127
DTSTAMP:20260420T123528
CREATED:20240730T073446Z
LAST-MODIFIED:20240906T124211Z
UID:7046-1732579200-1732665599@forum-zones-humides.org
SUMMARY:2èmes Rencontres régionales ERc : Éviter avant tout.
DESCRIPTION:Mardi 26 novembre 2024\, au CVRH Arras-Valenciennes (site de Valenciennes). \nCes deuxièmes Rencontres régionales ERc se concentreront sur l’évitement. Elles ont pour thème : Éviter avant tout ! \nCet événement se déroulera sur une seule journée et sera limité à 300 personnes. Il est organisé par la Direction régionale de l’Environnement\, de l’Aménagement et du Logement (DREAL) et l’Union professionnelle du génie écologique (UPGE) des Hauts-de-France\, avec l’appui logistique du Centre de valorisation des ressources humaines (CVRH) Arras-Valenciennes. \nVous trouverez ici les formulaires pour vous inscrire (à partir du 9 septembre) et / ou proposer des interventions (jusqu’au 31 août). \n 
URL:https://forum-zones-humides.org/evenement/2emes-rencontres-regionales-erc-eviter-avant-tout/
CATEGORIES:Agenda de nos partenaires
ATTACH;FMTTYPE=image/jpeg:https://forum-zones-humides.org/wp-content/uploads/2024/07/1.jpg
END:VEVENT
END:VCALENDAR