BEGIN:VCALENDAR
VERSION:2.0
PRODID:-//Forum des Marais atlantiques - ECPv5.3.1.1//NONSGML v1.0//EN
CALSCALE:GREGORIAN
METHOD:PUBLISH
X-WR-CALNAME:Forum des Marais atlantiques
X-ORIGINAL-URL:https://forum-zones-humides.org
X-WR-CALDESC:évènements pour Forum des Marais atlantiques
BEGIN:VTIMEZONE
TZID:Europe/Paris
BEGIN:DAYLIGHT
TZOFFSETFROM:+0100
TZOFFSETTO:+0200
TZNAME:CEST
DTSTART:20240331T010000
END:DAYLIGHT
BEGIN:STANDARD
TZOFFSETFROM:+0200
TZOFFSETTO:+0100
TZNAME:CET
DTSTART:20241027T010000
END:STANDARD
END:VTIMEZONE
BEGIN:VEVENT
DTSTART;TZID=Europe/Paris:20240918T080000
DTEND;TZID=Europe/Paris:20240920T170000
DTSTAMP:20260420T091324
CREATED:20240730T082613Z
LAST-MODIFIED:20240730T083029Z
UID:7053-1726646400-1726851600@forum-zones-humides.org
SUMMARY:14èmes Assises Nationales de la Biodiversité La nature\, clé de voûte de l'humanité !
DESCRIPTION:IdealCO et l’Association des Eco Maires proposent la tenue des 14emes Assises nationales de la biodiversité autour du fil rouge 2024 : ” La nature clé de voûte de l’humanité “\, du 18 au 20 septembre 2024 à La Rochelle\, au bord de l’océan Atlantique\, à l’Espace Encan. Il y aura de nombreux sujets sur les zones humides. \nZoom sur les milieux humides :\n– Résilience des milieux côtiers : renforcer la continuité terre-mer par les trames marines et littorales ; \n– Restaurer et faire fonctionner les mares\, étangs et plans d’eau en réseaux pour assurer les continuités ;écologiques \n– Suivi et évaluation des opérations de renaturation ; \n– Restaurer la nature par la contribution carbone : les puits de carbone bleus\, verts et marrons. \nSorties terrain :\nDe nombreuses visites sont prévues dans les marais de Charente-Maritime : marais de Tasdon\, Réserve naturelle régionale de la Massonne\, marais du Transbordeur à Rochefort…. \nStand :\nParmi les nombreux exposants\, vous pourrez consulter de la documentation et échanger avec l’association Ramsar-France et les Pôles-relais zones humides sur le stand dédié aux milieux humides. \n  \n– Site web des Assises nationales de la biodiversité
URL:https://forum-zones-humides.org/evenement/14emes-assises-nationales-de-la-biodiversite-la-nature-cle-de-voute-de-lhumanite-2/
CATEGORIES:Agenda de nos partenaires
ATTACH;FMTTYPE=image/jpeg:https://forum-zones-humides.org/wp-content/uploads/2024/07/assises.jpg
END:VEVENT
END:VCALENDAR