BEGIN:VCALENDAR
VERSION:2.0
PRODID:-//Forum des Marais atlantiques - ECPv5.3.1.1//NONSGML v1.0//EN
CALSCALE:GREGORIAN
METHOD:PUBLISH
X-WR-CALNAME:Forum des Marais atlantiques
X-ORIGINAL-URL:https://forum-zones-humides.org
X-WR-CALDESC:évènements pour Forum des Marais atlantiques
BEGIN:VTIMEZONE
TZID:Europe/Paris
BEGIN:DAYLIGHT
TZOFFSETFROM:+0100
TZOFFSETTO:+0200
TZNAME:CEST
DTSTART:20220327T010000
END:DAYLIGHT
BEGIN:STANDARD
TZOFFSETFROM:+0200
TZOFFSETTO:+0100
TZNAME:CET
DTSTART:20221030T010000
END:STANDARD
END:VTIMEZONE
BEGIN:VEVENT
DTSTART;TZID=Europe/Paris:20220901T080000
DTEND;TZID=Europe/Paris:20220901T170000
DTSTAMP:20260425T060833
CREATED:20220901T124606Z
LAST-MODIFIED:20220901T124706Z
UID:3705-1662019200-1662051600@forum-zones-humides.org
SUMMARY:Approche de la pédologie en zone humide
DESCRIPTION:En partenariat avec l’Agence de l’eau Artois-Picardie\, la Communauté d’agglomération du Pays de Saint-Omer (CAPSO)\, la DREAL Hauts-de-France et avec la participation d’Hubert PERU d’Agrosol\, l’antenne Manche-Mer du Nord du Forum des Marais Atlantiques (FMA) propose un atelier « Approche de la pédologie en zones humides ». \nCet atelier est labellisé dans le cadre des ateliers du patrimoine naturel des Hauts-de-France. \nLa pédologie est au cœur des compétences nécessaires pour identifier\, localiser et connaître les zones humides. Cette journée s’adresse à un public débutant en demande de connaissances sur la pédologie\, aucune compétence particulière n’est requise\, elle est ouverte à tous. \nDéroulement : une demi-journée de présentation théorique\, en salle à la Maison du Parc Naturel Régional des Caps et Marais d’Opale (à côté de la Maison du Marais)\, à Saint-Martin-lez-Tatinghem\, suivie par une demi-journée de terrain dans le marais Audomarois (prévoir des vêtements adaptés). \nLe repas\, tiré du sac\, est à la charge des participants. Selon la météo\, possibilité de pique-nique en extérieur. \nL’esprit des journées du FMA favorise les échanges et les rencontres entre les participants. Les personnes qui s’y croisent enrichissent ces moments de leurs expériences propres. Inscrivez-vous sans complexe\, chaque profil à sa place\, chaque profil est précieux ! \nVotre inscription vous engage\, il est important de la respecter. En cas de désistement\, merci de prévenir au plus tard 10 jours avant la date de la journée pour permettre d’ouvrir votre place à un autre participant. \n  \nPour plus de renseignements : \nSébastien Mézière – antenne FMA de Saint-Omer.\nsmeziere@forum-marais-atl.com – 06.79.26.49.24 \nInscription \nProgramme \n  \n  \n  \n  \n 
URL:https://forum-zones-humides.org/evenement/approche-de-la-pedologie-en-zone-humide/
CATEGORIES:Agenda du Forum
ATTACH;FMTTYPE=image/jpeg:https://forum-zones-humides.org/wp-content/uploads/2021/03/logo_fma_blanc-2.jpg
END:VEVENT
END:VCALENDAR