BEGIN:VCALENDAR
VERSION:2.0
PRODID:-//Forum des Marais atlantiques - ECPv5.3.1.1//NONSGML v1.0//EN
CALSCALE:GREGORIAN
METHOD:PUBLISH
X-WR-CALNAME:Forum des Marais atlantiques
X-ORIGINAL-URL:https://forum-zones-humides.org
X-WR-CALDESC:évènements pour Forum des Marais atlantiques
BEGIN:VTIMEZONE
TZID:Europe/Paris
BEGIN:DAYLIGHT
TZOFFSETFROM:+0100
TZOFFSETTO:+0200
TZNAME:CEST
DTSTART:20220327T010000
END:DAYLIGHT
BEGIN:STANDARD
TZOFFSETFROM:+0200
TZOFFSETTO:+0100
TZNAME:CET
DTSTART:20221030T010000
END:STANDARD
END:VTIMEZONE
BEGIN:VEVENT
DTSTART;TZID=Europe/Paris:20221108T080000
DTEND;TZID=Europe/Paris:20221108T170000
DTSTAMP:20260419T224821
CREATED:20221108T160547Z
LAST-MODIFIED:20221108T160547Z
UID:4054-1667894400-1667926800@forum-zones-humides.org
SUMMARY:Formation "Gestion intégrée des milieux humides"
DESCRIPTION:du 12 au 16 décembre 2022 \nL’Office français de la biodiversité (OFB) en partenariat avec le CNFPT\, propose cette formation au centre de formation du Paraclet (OFB)\, dans la commune Fouencamps\, département de la Somme. \nObjectifs du stage : \n– partager un vocabulaire commun sur les milieux humides\n– comprendre le rôle et l’intérêt des milieux humides pour son territoire\n– connaitre les démarches et outils pour faire des milieux humides un atout pour son projet de territoire\n– mobiliser les acteurs autour de la préservation et restauration des milieux humides \nPour en savoir plus et s’inscrire\, deux possibilités : inscriptions via l’OFB ou bien sur le site du CNFPT.
URL:https://forum-zones-humides.org/evenement/formation-gestion-integree-des-milieux-humides/
CATEGORIES:Agenda de nos partenaires
ATTACH;FMTTYPE=image/jpeg:https://forum-zones-humides.org/wp-content/uploads/2021/11/OFB_logo.jpg
END:VEVENT
END:VCALENDAR