BEGIN:VCALENDAR
VERSION:2.0
PRODID:-//Forum des Marais atlantiques - ECPv5.3.1.1//NONSGML v1.0//EN
CALSCALE:GREGORIAN
METHOD:PUBLISH
X-WR-CALNAME:Forum des Marais atlantiques
X-ORIGINAL-URL:https://forum-zones-humides.org
X-WR-CALDESC:évènements pour Forum des Marais atlantiques
BEGIN:VTIMEZONE
TZID:Europe/Paris
BEGIN:DAYLIGHT
TZOFFSETFROM:+0100
TZOFFSETTO:+0200
TZNAME:CEST
DTSTART:20230326T010000
END:DAYLIGHT
BEGIN:STANDARD
TZOFFSETFROM:+0200
TZOFFSETTO:+0100
TZNAME:CET
DTSTART:20231029T010000
END:STANDARD
END:VTIMEZONE
BEGIN:VEVENT
DTSTART;TZID=Europe/Paris:20230228T080000
DTEND;TZID=Europe/Paris:20230302T170000
DTSTAMP:20260424T161254
CREATED:20221004T082233Z
LAST-MODIFIED:20230111T142251Z
UID:3824-1677571200-1677776400@forum-zones-humides.org
SUMMARY:Formation SIG « milieux humides\, bassins versant »
DESCRIPTION:Le Forum des Marais Atlantiques propose une formation SIG « milieux humides\, bassins versant » adaptée aux problématiques des territoires sur QGIS\, logiciel de gestion de l’information géographique du 28 février au 2 mars 2023 en Normandie. \nCette session\, financée par l’Agence de l’eau Seine-Normandie s’adresse à tous les acteurs en rivières et zones humides de ce territoire qui ont un projet concret nécessitant la gestion d’information géographique : gestionnaires\, agents de marais\, techniciens « milieux aquatiques » ou « rivières »\, animateurs SAGE\, services des collectivités\, etc. \nEn savoir plus : \nInformation et inscription auprès de : nboesch@forum-marais-atl.com / Tél. 07 84 05 72 30 \nProgrammation \n  \nCOMPLET
URL:https://forum-zones-humides.org/evenement/formation-sig-milieux-humides-bassins-versant-2/
CATEGORIES:Agenda du Forum
ATTACH;FMTTYPE=image/jpeg:https://forum-zones-humides.org/wp-content/uploads/2022/08/aesn.jpg
END:VEVENT
END:VCALENDAR