BEGIN:VCALENDAR
VERSION:2.0
PRODID:-//Forum des Marais atlantiques - ECPv5.3.1.1//NONSGML v1.0//EN
CALSCALE:GREGORIAN
METHOD:PUBLISH
X-WR-CALNAME:Forum des Marais atlantiques
X-ORIGINAL-URL:https://forum-zones-humides.org
X-WR-CALDESC:évènements pour Forum des Marais atlantiques
BEGIN:VTIMEZONE
TZID:Europe/Paris
BEGIN:DAYLIGHT
TZOFFSETFROM:+0100
TZOFFSETTO:+0200
TZNAME:CEST
DTSTART:20230326T010000
END:DAYLIGHT
BEGIN:STANDARD
TZOFFSETFROM:+0200
TZOFFSETTO:+0100
TZNAME:CET
DTSTART:20231029T010000
END:STANDARD
END:VTIMEZONE
BEGIN:VEVENT
DTSTART;TZID=Europe/Paris:20230601T090000
DTEND;TZID=Europe/Paris:20230601T170000
DTSTAMP:20260419T182854
CREATED:20230125T134355Z
LAST-MODIFIED:20230330T074925Z
UID:4328-1685610000-1685638800@forum-zones-humides.org
SUMMARY:Journée sur les indicateurs lié au protocole Flore LigérO
DESCRIPTION:Le Conservatoire d’espaces naturels (Cen) Centre-Val de Loire organise le 1er juin\, près de Nevers\, avec l’aide du Conseil Départemental de la Nièvre et du Conservatoire d’espaces naturels (Cen) Bourgogne\, une journée sur les indicateurs liés au protocole Flore de la Boite à outils LigérO. Pour plus de renseignement\, rendez-vous le site internet LigérO\, rubrique Agenda.
URL:https://forum-zones-humides.org/evenement/journee-sur-les-indicateurs-lie-au-protocole-flore-ligero/
LOCATION:Nevers
CATEGORIES:Agenda de nos partenaires
ATTACH;FMTTYPE=image/jpeg:https://forum-zones-humides.org/wp-content/uploads/2023/01/fcen.jpg
END:VEVENT
END:VCALENDAR