BEGIN:VCALENDAR
VERSION:2.0
PRODID:-//Forum des Marais atlantiques - ECPv5.3.1.1//NONSGML v1.0//EN
CALSCALE:GREGORIAN
METHOD:PUBLISH
X-WR-CALNAME:Forum des Marais atlantiques
X-ORIGINAL-URL:https://forum-zones-humides.org
X-WR-CALDESC:évènements pour Forum des Marais atlantiques
BEGIN:VTIMEZONE
TZID:Europe/Paris
BEGIN:DAYLIGHT
TZOFFSETFROM:+0100
TZOFFSETTO:+0200
TZNAME:CEST
DTSTART:20230326T010000
END:DAYLIGHT
BEGIN:STANDARD
TZOFFSETFROM:+0200
TZOFFSETTO:+0100
TZNAME:CET
DTSTART:20231029T010000
END:STANDARD
END:VTIMEZONE
BEGIN:VEVENT
DTSTART;TZID=Europe/Paris:20230418T080000
DTEND;TZID=Europe/Paris:20230419T170000
DTSTAMP:20260424T175226
CREATED:20230131T083431Z
LAST-MODIFIED:20230216T092920Z
UID:4350-1681804800-1681923600@forum-zones-humides.org
SUMMARY:Journées techniques : repenser l'élevage en zones humides dans un projet agroécologique de territoire
DESCRIPTION:     \n  \n  \nLa Fédération des Conservatoires d’espaces naturels (FCEN-Pôle Loire) et le Conservatoire des races animales en Pays de Loire (CRAPAL) coorganisent 2 journées d’accompagnement technique les 18 et 19 avril à Pontchâteau (44)\, animés par l’association Paysans de nature® et son relai régional Ligue pour la Protection des Oiseaux (LPO). \nPublic cible :\n \nCes deux journées ciblent prioritairement les gestionnaires d’espaces naturels et les éleveurs qui portent\, qui seront amenés ou qui souhaiteraient porter des projets agroécologique pastoraux en zone humides sur le bassin de la Loire. \nAfin que cet accompagnement puisse profiter à tous les participants\, le nombre de places est limité à 20. Une liste d’attente sera constituée si vous êtes trop nombreux\, en vue d’une 2e session ou de vous proposer une place si nous avons des désistements. \nObjectifs de l’accompagnement technique :\n \n\ncomprendre les caractéristiques techniques et économiques de l’élevage en zone humide ;\navoir des clés pour étendre le périmètre d’influence de son espace naturel par la collaboration avec les éleveurs ;\néchanger sur les expériences agricoles et sociétales favorables à la biodiversité sauvage et domestique (caractéristiques économiques\, itinéraires techniques et pratiques agro-écologiques\, mobilisation des réseaux de naturalistes collectivités et habitants des territoires) ;\nproposer des outils pour enclencher une dynamique avec les paysans et les habitants du territoire pour un dialogue de long terme sur les questions d’alimentation\, d’élevage et de biodiversité ;\ncomprendre et s’approprier le fonctionnement du Dialogue Permanent pour la Nature.\n\nEn savoir plus : \nhttps://centrederessources-loirenature.com/fr/evenements/zones-humides/repenser-l-elevage-en-zones-humides-dans-un-projet-agroecologique-de
URL:https://forum-zones-humides.org/evenement/journees-techniques-repenser-lelevage-en-zones-humides-dans-un-projet-agroecologique-de-territoire/
CATEGORIES:Agenda de nos partenaires
ATTACH;FMTTYPE=image/jpeg:https://forum-zones-humides.org/wp-content/uploads/2022/11/lpo.jpg
END:VEVENT
END:VCALENDAR