BEGIN:VCALENDAR
VERSION:2.0
PRODID:-//Forum des Marais atlantiques - ECPv5.3.1.1//NONSGML v1.0//EN
CALSCALE:GREGORIAN
METHOD:PUBLISH
X-WR-CALNAME:Forum des Marais atlantiques
X-ORIGINAL-URL:https://forum-zones-humides.org
X-WR-CALDESC:évènements pour Forum des Marais atlantiques
BEGIN:VTIMEZONE
TZID:Europe/Paris
BEGIN:DAYLIGHT
TZOFFSETFROM:+0100
TZOFFSETTO:+0200
TZNAME:CEST
DTSTART:20250330T010000
END:DAYLIGHT
BEGIN:STANDARD
TZOFFSETFROM:+0200
TZOFFSETTO:+0100
TZNAME:CET
DTSTART:20251026T010000
END:STANDARD
END:VTIMEZONE
BEGIN:VEVENT
DTSTART;TZID=Europe/Paris:20250301T080000
DTEND;TZID=Europe/Paris:20250531T170000
DTSTAMP:20260421T174305
CREATED:20250210T154008Z
LAST-MODIFIED:20250228T134812Z
UID:7994-1740816000-1748710800@forum-zones-humides.org
SUMMARY:L’édition Fréquence Grenouille 2025.
DESCRIPTION:L’édition 2025 de Fréquence Grenouille se déroulera du 1er mars au 31 mai 2025. Comme chaque année\, les Conservatoires d’espaces naturels et ses partenaires organisent de nombreuses activités et animations partout en France pour sensibiliser à la préservation des zones humides et des amphibiens. \nCette année le lancement sera accueilli par le Conservatoire d’espaces naturels Rhône-Alpes\, le samedi 1er mars 2025. \nLes animations de cette édition sont bientôt disponibles !
URL:https://forum-zones-humides.org/evenement/ledition-frequence-grenouille-2025/
CATEGORIES:Agenda de nos partenaires
ATTACH;FMTTYPE=image/jpeg:https://forum-zones-humides.org/wp-content/uploads/2023/01/fcen.jpg
END:VEVENT
END:VCALENDAR