BEGIN:VCALENDAR
VERSION:2.0
PRODID:-//Forum des Marais atlantiques - ECPv5.3.1.1//NONSGML v1.0//EN
CALSCALE:GREGORIAN
METHOD:PUBLISH
X-WR-CALNAME:Forum des Marais atlantiques
X-ORIGINAL-URL:https://forum-zones-humides.org
X-WR-CALDESC:évènements pour Forum des Marais atlantiques
BEGIN:VTIMEZONE
TZID:Europe/Paris
BEGIN:DAYLIGHT
TZOFFSETFROM:+0100
TZOFFSETTO:+0200
TZNAME:CEST
DTSTART:20220327T010000
END:DAYLIGHT
BEGIN:STANDARD
TZOFFSETFROM:+0200
TZOFFSETTO:+0100
TZNAME:CET
DTSTART:20221030T010000
END:STANDARD
END:VTIMEZONE
BEGIN:VEVENT
DTSTART;TZID=Europe/Paris:20220928T080000
DTEND;TZID=Europe/Paris:20220930T170000
DTSTAMP:20260425T002915
CREATED:20220210T092202Z
LAST-MODIFIED:20220725T090357Z
UID:2836-1664352000-1664557200@forum-zones-humides.org
SUMMARY:Inscrivez-vous pour le 14ème Séminaire des sites Ramsar
DESCRIPTION:  \n  \nLe 14ème séminaire national des sites Ramsar se tiendra du mercredi 28 au vendredi 30 septembre 2022 dans le Finistère\, sur le thème “Les atouts des milieux humides\, dans notre quotidien et pour l’avenir“. \nCo-organisé par l’association Ramsar France\, le Conseil départemental du Finistère et le Forum des Marais Atlantiques\, il se tiendra à la Maison du Département\, à Quimper (29). \n———- \nCe séminaire sera l’occasion d’aborder les nombreuses et précieuses interactions qui nous relient à ces milieux\, ainsi que les stratégies à adopter pour s’assurer de leur préservation. \nIl est ouvert aux élus\, aux gestionnaires et aux partenaires des sites Ramsar\, ainsi qu’aux acteurs concernés par la connaissance\, la gestion\, la préservation ou la valorisation des milieux humides. \n>> Consulter le programme << \nCinq sessions organisées en plénière (mercredi 28 et vendredi 30 matin) permettront d’échanger à partir de témoignages et de différents retours d’expériences: \n\nDynamiques autour du label Ramsar et intérêt du travail en réseau\nLes milieux humides\, des ressources précieuses au quotidien\nDes évolutions et des adaptations nécessaires\nConnaître les publics pour mieux agir et sensibiliser\nActualités nationales sur les milieux humides\n\nLe jeudi 29 septembre sera dédié à la découverte\, au choix : \n\ndu site Ramsar de la baie d’Audierne désigné en septembre 2021\,\ndu site des tourbières des Monts d’Arrée\, engagé dans une démarche de désignation.\n\nCette journée terrain est co-organisée avec les Communautés de communes du Pays bigouden sud et du Haut Pays bigouden et le Parc naturel régional d’Armorique. \n  \nInfos pratiques\nRetrouver toutes les infos pratiques relatives au séminaire ici. \n>> Inscriptions << \nLe nombre de places étant limité\, si vous souhaitez participer au séminaire\, nous vous remercions de nous renvoyer le formulaire d’inscription renseigné pour le 5 septembre prochain au plus tard. \n  \nContacts utiles\n\nBastien Coïc (association Ramsar France) : ramsarfrance@gmail.com\nMarie Bégué (Conseil départemental du Finistère) et Anaëlle Magueur (Forum des Marais Atlantiques) : seminaire.ramsar2022@finistere.fr\n\n  \nPour en savoir plus\nhttps://www.finistere.fr/Actualites/14e-seminaire-national-des-sites-Ramsar \n– Le site Ramsar de la Baie d’Audierne \n– Le séminaire annuel des sites ramsar français \n– L’association Ramsar France \n– Le Département du Finistère (CAMAB) \n– Le Forum des marais atlantiques \n– Communautés de communes du Pays bigouden sud \n– Communautés de communes du Haut Pays bigouden
URL:https://forum-zones-humides.org/evenement/reservez-vos-dates-pour-le-seminaire-ramsar-2022/
LOCATION:Quimper
CATEGORIES:Agenda de nos partenaires,Agenda du Forum
ATTACH;FMTTYPE=image/jpeg:https://forum-zones-humides.org/wp-content/uploads/2022/02/reservez-vos-dates.jpg
END:VEVENT
END:VCALENDAR